BEGIN:VCALENDAR
VERSION:2.0
PRODID:-//wp-events-plugin.com//6.6.4.4//EN
TZID:Europe/Brussels
X-WR-TIMEZONE:Europe/Brussels
BEGIN:VEVENT
UID:10@diestseturnkring.be
DTSTART;TZID=Europe/Brussels;VALUE=DATE:20260201
DTEND;TZID=Europe/Brussels;VALUE=DATE:20260202
DTSTAMP:20251130T092501Z
URL:https://www.diestseturnkring.be/evenementen/clubwedstrijd-26-2/
SUMMARY:Clubwedstrijd '26
DESCRIPTION:
END:VEVENT
BEGIN:VTIMEZONE
TZID:Europe/Brussels
X-LIC-LOCATION:Europe/Brussels
BEGIN:STANDARD
DTSTART:20251026T020000
TZOFFSETFROM:+0200
TZOFFSETTO:+0100
TZNAME:CET
END:STANDARD
END:VTIMEZONE
END:VCALENDAR