BEGIN:VCALENDAR
VERSION:2.0
PRODID:-//wp-events-plugin.com//6.6.4.4//EN
TZID:Europe/Brussels
X-WR-TIMEZONE:Europe/Brussels
BEGIN:VEVENT
UID:9@diestseturnkring.be
DTSTART;TZID=Europe/Brussels;VALUE=DATE:20260516
DTEND;TZID=Europe/Brussels;VALUE=DATE:20260518
DTSTAMP:20251130T092400Z
URL:https://www.diestseturnkring.be/evenementen/turnfeest-26/
SUMMARY:Turnfeest '26
DESCRIPTION:
END:VEVENT
BEGIN:VTIMEZONE
TZID:Europe/Brussels
X-LIC-LOCATION:Europe/Brussels
BEGIN:DAYLIGHT
DTSTART:20260329T030000
TZOFFSETFROM:+0100
TZOFFSETTO:+0200
TZNAME:CEST
END:DAYLIGHT
END:VTIMEZONE
END:VCALENDAR